Workbook

Sheet Register
A1: Template by Syntra — AI project management · syntra.tymko.tech
A2: Project risk register
A3: Probability and impact go from 1 to 5. Score and level are calculated; the matrix is on its own sheet.
A5: # | B5: Risk | C5: Category | D5: Probability (1–5) | E5: Impact (1–5) | F5: Score | G5: Level | H5: Owner | I5: Response | J5: Due | K5: Status
A6: 1 | B6: Design sign-off is late | C6: Schedule | D6: 4 | E6: 3 | F6: =IF(AND(ISNUMBER(D6),ISNUMBER(E6)),D6*E6,"") | G6: =IF(F6="","",IF(F6>=15,"High",IF(F6>=8,"Medium","Low"))) | H6: Ivan P. | I6: Fixed review slots twice a week | J6: 46342 | K6: Open
A7: 2 | B7: Content not ready for launch | C7: Scope | D7: 3 | E7: 4 | F7: =IF(AND(ISNUMBER(D7),ISNUMBER(E7)),D7*E7,"") | G7: =IF(F7="","",IF(F7>=15,"High",IF(F7>=8,"Medium","Low"))) | H7: Olena K. | I7: Page list with owners and deadlines | J7: 46349 | K7: Open
A8: 3 | B8: Search rankings drop after the move | C8: Technical | D8: 2 | E8: 5 | F8: =IF(AND(ISNUMBER(D8),ISNUMBER(E8)),D8*E8,"") | G8: =IF(F8="","",IF(F8>=15,"High",IF(F8>=8,"Medium","Low"))) | H8: Andrii S. | I8: 301 redirect map and Search Console checks | J8: 46356 | K8: Monitored
A9: 4 | B9: Key developer on holiday | C9: People | D9: 2 | E9: 3 | F9: =IF(AND(ISNUMBER(D9),ISNUMBER(E9)),D9*E9,"") | G9: =IF(F9="","",IF(F9>=15,"High",IF(F9>=8,"Medium","Low"))) | H9: Ivan P. | I9: Documentation and a second developer | J9: 46363 | K9: Open
F10: =IF(AND(ISNUMBER(D10),ISNUMBER(E10)),D10*E10,"") | G10: =IF(F10="","",IF(F10>=15,"High",IF(F10>=8,"Medium","Low")))
F11: =IF(AND(ISNUMBER(D11),ISNUMBER(E11)),D11*E11,"") | G11: =IF(F11="","",IF(F11>=15,"High",IF(F11>=8,"Medium","Low")))
F12: =IF(AND(ISNUMBER(D12),ISNUMBER(E12)),D12*E12,"") | G12: =IF(F12="","",IF(F12>=15,"High",IF(F12>=8,"Medium","Low")))
F13: =IF(AND(ISNUMBER(D13),ISNUMBER(E13)),D13*E13,"") | G13: =IF(F13="","",IF(F13>=15,"High",IF(F13>=8,"Medium","Low")))
F14: =IF(AND(ISNUMBER(D14),ISNUMBER(E14)),D14*E14,"") | G14: =IF(F14="","",IF(F14>=15,"High",IF(F14>=8,"Medium","Low")))
F15: =IF(AND(ISNUMBER(D15),ISNUMBER(E15)),D15*E15,"") | G15: =IF(F15="","",IF(F15>=15,"High",IF(F15>=8,"Medium","Low")))
F16: =IF(AND(ISNUMBER(D16),ISNUMBER(E16)),D16*E16,"") | G16: =IF(F16="","",IF(F16>=15,"High",IF(F16>=8,"Medium","Low")))
F17: =IF(AND(ISNUMBER(D17),ISNUMBER(E17)),D17*E17,"") | G17: =IF(F17="","",IF(F17>=15,"High",IF(F17>=8,"Medium","Low")))
F18: =IF(AND(ISNUMBER(D18),ISNUMBER(E18)),D18*E18,"") | G18: =IF(F18="","",IF(F18>=15,"High",IF(F18>=8,"Medium","Low")))
F19: =IF(AND(ISNUMBER(D19),ISNUMBER(E19)),D19*E19,"") | G19: =IF(F19="","",IF(F19>=15,"High",IF(F19>=8,"Medium","Low")))
F20: =IF(AND(ISNUMBER(D20),ISNUMBER(E20)),D20*E20,"") | G20: =IF(F20="","",IF(F20>=15,"High",IF(F20>=8,"Medium","Low")))
F21: =IF(AND(ISNUMBER(D21),ISNUMBER(E21)),D21*E21,"") | G21: =IF(F21="","",IF(F21>=15,"High",IF(F21>=8,"Medium","Low")))
... F35: =IF(AND(ISNUMBER(D35),ISNUMBER(E35)),D35*E35,"") | G35: =IF(F35="","",IF(F35>=15,"High",IF(F35>=8,"Medium","Low")))

Sheet 5×5 matrix
A1: Number of risks in the cell
A3: Probability ↓ / Impact → | B3: 1 | C3: 2 | D3: 3 | E3: 4 | F3: 5
A4: 5 | B4: =COUNTIFS('Register'!$D:$D,5,'Register'!$E:$E,1,'Register'!$K:$K,"<>Closed") | C4: =COUNTIFS('Register'!$D:$D,5,'Register'!$E:$E,2,'Register'!$K:$K,"<>Closed") | D4: =COUNTIFS('Register'!$D:$D,5,'Register'!$E:$E,3,'Register'!$K:$K,"<>Closed") | E4: =COUNTIFS('Register'!$D:$D,5,'Register'!$E:$E,4,'Register'!$K:$K,"<>Closed") | F4: =COUNTIFS('Register'!$D:$D,5,'Register'!$E:$E,5,'Register'!$K:$K,"<>Closed")
A5: 4 | B5: =COUNTIFS('Register'!$D:$D,4,'Register'!$E:$E,1,'Register'!$K:$K,"<>Closed") | C5: =COUNTIFS('Register'!$D:$D,4,'Register'!$E:$E,2,'Register'!$K:$K,"<>Closed") | D5: =COUNTIFS('Register'!$D:$D,4,'Register'!$E:$E,3,'Register'!$K:$K,"<>Closed") | E5: =COUNTIFS('Register'!$D:$D,4,'Register'!$E:$E,4,'Register'!$K:$K,"<>Closed") | F5: =COUNTIFS('Register'!$D:$D,4,'Register'!$E:$E,5,'Register'!$K:$K,"<>Closed")
A6: 3 | B6: =COUNTIFS('Register'!$D:$D,3,'Register'!$E:$E,1,'Register'!$K:$K,"<>Closed") | C6: =COUNTIFS('Register'!$D:$D,3,'Register'!$E:$E,2,'Register'!$K:$K,"<>Closed") | D6: =COUNTIFS('Register'!$D:$D,3,'Register'!$E:$E,3,'Register'!$K:$K,"<>Closed") | E6: =COUNTIFS('Register'!$D:$D,3,'Register'!$E:$E,4,'Register'!$K:$K,"<>Closed") | F6: =COUNTIFS('Register'!$D:$D,3,'Register'!$E:$E,5,'Register'!$K:$K,"<>Closed")
A7: 2 | B7: =COUNTIFS('Register'!$D:$D,2,'Register'!$E:$E,1,'Register'!$K:$K,"<>Closed") | C7: =COUNTIFS('Register'!$D:$D,2,'Register'!$E:$E,2,'Register'!$K:$K,"<>Closed") | D7: =COUNTIFS('Register'!$D:$D,2,'Register'!$E:$E,3,'Register'!$K:$K,"<>Closed") | E7: =COUNTIFS('Register'!$D:$D,2,'Register'!$E:$E,4,'Register'!$K:$K,"<>Closed") | F7: =COUNTIFS('Register'!$D:$D,2,'Register'!$E:$E,5,'Register'!$K:$K,"<>Closed")
A8: 1 | B8: =COUNTIFS('Register'!$D:$D,1,'Register'!$E:$E,1,'Register'!$K:$K,"<>Closed") | C8: =COUNTIFS('Register'!$D:$D,1,'Register'!$E:$E,2,'Register'!$K:$K,"<>Closed") | D8: =COUNTIFS('Register'!$D:$D,1,'Register'!$E:$E,3,'Register'!$K:$K,"<>Closed") | E8: =COUNTIFS('Register'!$D:$D,1,'Register'!$E:$E,4,'Register'!$K:$K,"<>Closed") | F8: =COUNTIFS('Register'!$D:$D,1,'Register'!$E:$E,5,'Register'!$K:$K,"<>Closed")
